BEGIN:VCALENDAR
VERSION:2.0
PRODID:-//ChamberMaster//Event Calendar 2.0//EN
METHOD:PUBLISH
X-PUBLISHED-TTL:P3D
REFRESH-INTERVAL:P3D
CALSCALE:GREGORIAN
BEGIN:VEVENT
DTSTART:20020729T040000Z
DTEND:20020729T040000Z
X-MICROSOFT-CDO-ALLDAYEVENT:FALSE
SUMMARY:Worcester Golf Outing Presenting Sponsorship 2002
DESCRIPTION:Worcester Golf Outing Presenting Sponsorship 2002
X-ALT-DESC;FMTTYPE=text/html:Worcester Golf Outing Presenting Sponsorship 2002
LOCATION:Worcester Country Club
UID:e.2083.1022
SEQUENCE:3
DTSTAMP:20260421T002459Z
URL:https://business.clintonareachamber.org/events/details/worcester-golf-outing-presenting-sponsorship-2002-07-29-2002-1022
END:VEVENT

END:VCALENDAR
