BEGIN:VCALENDAR
VERSION:2.0
PRODID:-//ChamberMaster//Event Calendar 2.0//EN
METHOD:PUBLISH
X-PUBLISHED-TTL:P3D
REFRESH-INTERVAL:P3D
CALSCALE:GREGORIAN
BEGIN:VEVENT
DTSTART;VALUE=DATE:20021119
DTEND;VALUE=DATE:20021120
TRANSP:TRANSPARENT
X-MICROSOFT-CDO-ALLDAYEVENT:TRUE
SUMMARY:Women's Information Network
DESCRIPTION:Worcester Regional Chamber and Affiliates. Program location is at the Chamber's Fuller Conference Center\, 339 Main Street\, Worcester. For details contact Diane Laska-Nixon: for reservations contact Mary Hubbard at 508.753.2924.
X-ALT-DESC;FMTTYPE=text/html:Worcester Regional Chamber and Affiliates. Program location is at the Chamber's Fuller Conference Center\, 339 Main Street\, Worcester. For details contact Diane Laska-Nixon: for reservations contact Mary Hubbard at 508.753.2924.
LOCATION:
UID:e.2083.42
SEQUENCE:3
DTSTAMP:20260420T161534Z
URL:https://business.clintonareachamber.org/events/details/women-s-information-network-11-19-2002-42
END:VEVENT

END:VCALENDAR
