BEGIN:VCALENDAR
VERSION:2.0
PRODID:-//ChamberMaster//Event Calendar 2.0//EN
METHOD:PUBLISH
X-PUBLISHED-TTL:P3D
REFRESH-INTERVAL:P3D
CALSCALE:GREGORIAN
BEGIN:VEVENT
DTSTART:20030115T050000Z
DTEND:20030115T050000Z
X-MICROSOFT-CDO-ALLDAYEVENT:FALSE
SUMMARY:Webster-Dudley-Oxford Chamber Breakfast Flyer Postage Cost
DESCRIPTION:Webster-Dudley-Oxford Chamber Breakfast Flyer Postage Cost
X-ALT-DESC;FMTTYPE=text/html:Webster-Dudley-Oxford Chamber Breakfast Flyer Postage Cost
LOCATION:
UID:e.2083.1076
SEQUENCE:3
DTSTAMP:20260420T122754Z
URL:https://business.clintonareachamber.org/events/details/webster-dudley-oxford-chamber-breakfast-flyer-postage-cost-01-15-2003-1076
END:VEVENT

END:VCALENDAR
