BEGIN:VCALENDAR
VERSION:2.0
PRODID:-//ChamberMaster//Event Calendar 2.0//EN
METHOD:PUBLISH
X-PUBLISHED-TTL:P3D
REFRESH-INTERVAL:P3D
CALSCALE:GREGORIAN
BEGIN:VEVENT
DTSTART;VALUE=DATE:20021205
DTEND;VALUE=DATE:20021206
TRANSP:TRANSPARENT
X-MICROSOFT-CDO-ALLDAYEVENT:TRUE
SUMMARY:The Breakfast Club
DESCRIPTION:Worcester Regional Chamber of Commerce and Affiliates. Program location is at the Holiday Inn. For details/reservations contact Diane Laska-Nixon at 508.753.2924.
X-ALT-DESC;FMTTYPE=text/html:Worcester Regional Chamber of Commerce and Affiliates. Program location is at the Holiday Inn. For details/reservations contact Diane Laska-Nixon at 508.753.2924.
LOCATION:
UID:e.2083.43
SEQUENCE:3
DTSTAMP:20260420T142338Z
URL:https://business.clintonareachamber.org/events/details/the-breakfast-club-12-05-2002-43
END:VEVENT

END:VCALENDAR
