BEGIN:VCALENDAR
VERSION:2.0
PRODID:-//ChamberMaster//Event Calendar 2.0//EN
METHOD:PUBLISH
X-PUBLISHED-TTL:P3D
REFRESH-INTERVAL:P3D
CALSCALE:GREGORIAN
BEGIN:VEVENT
DTSTART:20260509T153000Z
DTEND:20260509T160000Z
X-MICROSOFT-CDO-ALLDAYEVENT:FALSE
SUMMARY:Ribbon Cutting: Worcester Railers Explorer Express Train
DESCRIPTION:Ribbon Cutting: Worcester Railers Explorer Express Train\n\nSaturday\, May 9\, 2026\n\n11:30 am   12:00 pm\n\nWe are thrilled to announce our partnership with the Worcester Railers Hockey Club!\n\nJoin us to celebrate the official Ribbon Cutting for the Worcester Railers Explorer Express Train!\n\nSchedule\n\n\n	10 am   5 pm   Museum open to the public\n	11 am   1 pm   Trax\, the Worcester Railers Hockey Club mascot\, will be on-site\n	11:30 am   Ribbon Cutting ceremony\n	11:45 am   Cosmic Adventure (Full-dome movie in the planetarium)*\n	12   1 pm   Autographs and photo opportunities with Trax (after the Ribbon Cutting)\n	12:30 pm   Science Discovery: Terrific Trains\n	1:15 pm   Astronomy Live! (Interactive exploration in the planetarium)*\n	2:00 pm   Astronomy Live! (Interactive exploration in the planetarium)*\n	2:45 pm   Science Discovery: The Science of Sports\n	3:30 pm   CAPCOM Go! The Apollo Story (Full-dome movie in the planetarium)*\n	4:15 pm   Afternoon Astronomy\n\n\nOngoing activities \n\n\n	Train rides all day!*\n	Train and hockey-themed programming and table top activities.\n	Photo opportunities in front of the newly-wrapped decommissioned train engine.\n\n\n*Ribbon Cutting ceremony included with admission. Train rides and planetarium shows require separate tickets.
X-ALT-DESC;FMTTYPE=text/html:<p><em><strong>Ribbon Cutting: Worcester Railers Explorer Express Train</strong></em><br />\n<strong>Saturday\, May 9\, 2026</strong><br />\n<strong>11:30 am &ndash\; 12:00 pm</strong></p>\n\n<p>We are thrilled to announce our partnership with the Worcester Railers Hockey Club!</p>\n\n<p>Join us to celebrate the official Ribbon Cutting for the Worcester Railers Explorer Express Train!</p>\n\n<h3><strong>Schedule</strong></h3>\n\n<ul>\n	<li><strong>10 am &ndash\; 5 pm</strong>&nbsp\;&mdash\;&nbsp\;Museum open to the public</li>\n	<li><strong>11 am &ndash\; 1 pm</strong>&nbsp\;&mdash\; Trax\, the Worcester Railers Hockey Club mascot\, will be on-site</li>\n	<li><strong>11:30 am</strong>&nbsp\;&mdash\; Ribbon Cutting ceremony</li>\n	<li><strong>11:45 am</strong>&nbsp\;&mdash\; Cosmic Adventure (Full-dome movie in the planetarium)*</li>\n	<li><strong>12 &ndash\; 1 pm</strong>&nbsp\;&mdash\; Autographs and photo opportunities with Trax (after the Ribbon Cutting)</li>\n	<li><strong>12:30 pm</strong>&nbsp\;&mdash\; Science Discovery: Terrific Trains</li>\n	<li><strong>1:15 pm</strong>&nbsp\;&mdash\; Astronomy Live! (Interactive exploration in the planetarium)*</li>\n	<li><strong>2:00 pm</strong>&nbsp\;&mdash\; Astronomy Live! (Interactive exploration in the planetarium)*</li>\n	<li><strong>2:45 pm</strong>&nbsp\;&mdash\; Science Discovery: The Science of Sports</li>\n	<li><strong>3:30 pm</strong>&nbsp\;&mdash\; CAPCOM Go! The Apollo Story (Full-dome movie in the planetarium)*</li>\n	<li><strong>4:15 pm</strong>&nbsp\;&mdash\; Afternoon Astronomy</li>\n</ul>\n\n<h3><strong>Ongoing activities</strong>&nbsp\;</h3>\n\n<ul>\n	<li>Train rides all day!*</li>\n	<li>Train and hockey-themed programming and table top activities.</li>\n	<li>Photo opportunities in front of the newly-wrapped decommissioned train engine.</li>\n</ul>\n\n<p><strong><em>*Ribbon Cutting ceremony included with admission. Train rides and planetarium shows require separate tickets.</em></strong></p>\n
LOCATION:EcoTarium
UID:e.2083.23849
SEQUENCE:3
DTSTAMP:20260423T114534Z
URL:https://business.clintonareachamber.org/events/details/ribbon-cutting-worcester-railers-explorer-express-train-23849
END:VEVENT

END:VCALENDAR
