BEGIN:VCALENDAR
VERSION:2.0
PRODID:-//ChamberMaster//Event Calendar 2.0//EN
METHOD:PUBLISH
X-PUBLISHED-TTL:P3D
REFRESH-INTERVAL:P3D
CALSCALE:GREGORIAN
BEGIN:VEVENT
DTSTART:20020919T040000Z
DTEND:20020919T040000Z
X-MICROSOFT-CDO-ALLDAYEVENT:FALSE
SUMMARY:Power Lunch at the New England Business Expo 2002
DESCRIPTION:Power Lunch at the New England Business Expo 2002
X-ALT-DESC;FMTTYPE=text/html:Power Lunch at the New England Business Expo 2002
LOCATION:Worcester Centrum Centre
UID:e.2083.1043
SEQUENCE:3
DTSTAMP:20260420T200946Z
URL:https://business.clintonareachamber.org/events/details/power-lunch-at-the-new-england-business-expo-2002-09-19-2002-1043
END:VEVENT

END:VCALENDAR
