BEGIN:VCALENDAR
VERSION:2.0
PRODID:-//ChamberMaster//Event Calendar 2.0//EN
METHOD:PUBLISH
X-PUBLISHED-TTL:P3D
REFRESH-INTERVAL:P3D
CALSCALE:GREGORIAN
BEGIN:VEVENT
DTSTART:20260527T220000Z
DTEND:20260527T233000Z
X-MICROSOFT-CDO-ALLDAYEVENT:FALSE
SUMMARY:NEXUS | Power Perspectives—From Grid to Building (May 27)
DESCRIPTION:We're pleased to invite you to NEXUS: Power Perspectives From Grid to Building\, an exclusive\, in-person event bringing together industry leaders to explore how grid-level strategy and building-level design decisions are shaping the future of energy demand.\n\n \n\nWednesday\, May 27\, 2026\n\nDoors Open: 5:00 PM (food\, drinks & networking)\n\nPresentation Begins: 6:00 PM\n\nLocation:\n\n138 Green Street\, Suite 203\n\nWorcester\, MA 01604\n\n \n\nThis engaging\, two-part discussion will dive into both the macro and micro considerations of today's electrical infrastructure from large-scale grid planning to real-world building design decisions.\n\n \n\nWhy Attend?\n\n	Understand the critical relationship between grid strategy and building-level choices\n	Gain practical insights for planning and executing energy-conscious projects\n	Network with professionals influencing the future of sustainable and resilient design\n\n \n\nFeatured Speakers\n\n\n	Kevin Seaman\n\n	President\, Seaman Engineering Corporation\n\n	Exploring how mechanical and HVAC design choices directly impact electrical demand\, with real-world examples.\n	Mohamed Shamog\n\n	Principal Engineer\, Distribution Planning\, National Grid\n\n	Providing a big-picture perspective on the evolving energy grid\, infrastructure upgrades\, and long-term project planning.\n\n \n\nAttendance is free\, but registration is required.\n\nPlease register at https://PowerPerspectives.eventbrite.com\n\n \n\nWe look forward to welcoming you for an evening of meaningful conversation\, valuable insights\, and connection with peers across the industry.
X-ALT-DESC;FMTTYPE=text/html:We&rsquo\;re pleased to invite you to <strong><span style="color:#9F2518">NEXUS: Power Perspectives&mdash\;From Grid to Building</span></strong>\, an exclusive\, in-person event bringing together industry leaders to explore how grid-level strategy and building-level design decisions are shaping the future of energy demand.<br />\n&nbsp\;<br />\n<strong>Wednesday\, May 27\, 2026</strong><br />\n<strong>Doors Open:</strong> 5:00 PM (food\, drinks &amp\; networking)<br />\n<strong>Presentation Begins:</strong> 6:00 PM<br />\n<strong>Location:</strong><br />\n138 Green Street\, Suite 203<br />\nWorcester\, MA 01604<br />\n&nbsp\;<br />\nThis engaging\, two-part discussion will dive into both the <strong>macro</strong> and <strong>micro</strong> considerations of today&rsquo\;s electrical infrastructure&mdash\;from large-scale grid planning to real-world building design decisions.<br />\n&nbsp\;<br />\n<strong><span style="color:#9F2518">Why Attend?</span></strong>\n<ul>\n	<li style="text-align:left">Understand the critical relationship between grid strategy and building-level choices</li>\n	<li style="text-align:left">Gain practical insights for planning and executing energy-conscious projects</li>\n	<li style="text-align:left">Network with professionals influencing the future of sustainable and resilient design</li>\n</ul>\n&nbsp\;<br />\n<strong><span style="color:#9F2518">Featured Speakers</span></strong>\n\n<ul>\n	<li><strong><span style="color:#2E493F">Kevin Seaman</span></strong><br />\n	President\, Seaman Engineering Corporation<br />\n	Exploring how mechanical and HVAC design choices directly impact electrical demand\, with real-world examples.</li>\n	<li><strong><span style="color:#2E493F">Mohamed Shamog</span></strong><br />\n	Principal Engineer\, Distribution Planning\, National Grid<br />\n	Providing a big-picture perspective on the evolving energy grid\, infrastructure upgrades\, and long-term project planning.</li>\n</ul>\n&nbsp\;<br />\n<strong><span style="color:#9F2518">Attendance is free</span></strong>\, but registration is required.<br />\nPlease register at <strong><span style="color:#9F2518"><a href="https://PowerPerspectives.eventbrite.com">https://PowerPerspectives.eventbrite.com</a></span></strong><br />\n&nbsp\;<br />\nWe look forward to welcoming you for an evening of meaningful conversation\, valuable insights\, and connection with peers across the industry.
LOCATION:138 Green Street\, Suite #203 Worcester\, MA 01604
UID:e.2083.23848
SEQUENCE:3
DTSTAMP:20260423T113828Z
URL:https://business.clintonareachamber.org/events/details/nexus-power-perspectives-from-grid-to-building-may-27-23848
END:VEVENT

END:VCALENDAR
