BEGIN:VCALENDAR
VERSION:2.0
PRODID:-//ChamberMaster//Event Calendar 2.0//EN
METHOD:PUBLISH
X-PUBLISHED-TTL:P3D
REFRESH-INTERVAL:P3D
CALSCALE:GREGORIAN
BEGIN:VEVENT
DTSTART:20020521T040000Z
DTEND:20020521T040000Z
X-MICROSOFT-CDO-ALLDAYEVENT:FALSE
SUMMARY:Newsletter Ad - May 2002
DESCRIPTION:Newsletter Ad - May 2002
X-ALT-DESC;FMTTYPE=text/html:Newsletter Ad - May 2002
LOCATION:One Constitution Plaza
UID:e.2083.1034
SEQUENCE:3
DTSTAMP:20260421T032934Z
URL:https://business.clintonareachamber.org/events/details/newsletter-ad-may-2002-05-21-2002-1034
END:VEVENT

END:VCALENDAR
