BEGIN:VCALENDAR
VERSION:2.0
PRODID:-//ChamberMaster//Event Calendar 2.0//EN
METHOD:PUBLISH
X-PUBLISHED-TTL:P3D
REFRESH-INTERVAL:P3D
CALSCALE:GREGORIAN
BEGIN:VEVENT
DTSTART:20020301T050000Z
DTEND:20020301T050000Z
X-MICROSOFT-CDO-ALLDAYEVENT:FALSE
SUMMARY:News Letter Add - March 2002
DESCRIPTION:News Letter Add - March 2002
X-ALT-DESC;FMTTYPE=text/html:News Letter Add - March 2002
LOCATION:
UID:e.2083.1026
SEQUENCE:3
DTSTAMP:20260421T075103Z
URL:https://business.clintonareachamber.org/events/details/news-letter-add-march-2002-03-01-2002-1026
END:VEVENT

END:VCALENDAR
