BEGIN:VCALENDAR
VERSION:2.0
PRODID:-//ChamberMaster//Event Calendar 2.0//EN
METHOD:PUBLISH
X-PUBLISHED-TTL:P3D
REFRESH-INTERVAL:P3D
CALSCALE:GREGORIAN
BEGIN:VEVENT
DTSTART:20020919T040000Z
DTEND:20020919T040000Z
X-MICROSOFT-CDO-ALLDAYEVENT:FALSE
SUMMARY:New England Business Expo - Breakfast Club Registration
DESCRIPTION:New England Business Expo - Breakfast Club Registration
X-ALT-DESC;FMTTYPE=text/html:New England Business Expo - Breakfast Club Registration
LOCATION:Worcester Centrum Centre
UID:e.2083.1049
SEQUENCE:3
DTSTAMP:20260420T200108Z
URL:https://business.clintonareachamber.org/events/details/new-england-business-expo-breakfast-club-registration-09-19-2002-1049
END:VEVENT

END:VCALENDAR
