BEGIN:VCALENDAR
VERSION:2.0
PRODID:-//ChamberMaster//Event Calendar 2.0//EN
METHOD:PUBLISH
X-PUBLISHED-TTL:P3D
REFRESH-INTERVAL:P3D
CALSCALE:GREGORIAN
BEGIN:VEVENT
DTSTART:20030101T133000Z
DTEND:20030101T220000Z
X-MICROSOFT-CDO-ALLDAYEVENT:FALSE
SUMMARY:Larry Wambel Worcester Print
DESCRIPTION:
X-ALT-DESC;FMTTYPE=text/html:
LOCATION:Worcester Regional Chamber of Commerce
UID:e.2083.102
SEQUENCE:3
DTSTAMP:20260420T122633Z
URL:https://business.clintonareachamber.org/events/details/larry-wambel-worcester-print-01-01-2003-102
END:VEVENT

END:VCALENDAR
