BEGIN:VCALENDAR
VERSION:2.0
PRODID:-//ChamberMaster//Event Calendar 2.0//EN
METHOD:PUBLISH
X-PUBLISHED-TTL:P3D
REFRESH-INTERVAL:P3D
CALSCALE:GREGORIAN
BEGIN:VEVENT
DTSTART:20020909T040000Z
DTEND:20020909T040000Z
X-MICROSOFT-CDO-ALLDAYEVENT:FALSE
SUMMARY:Joint BV\, Auburn\, WDO September Breakfast Program Mailing
DESCRIPTION:Joint BV\, Auburn\, WDO September Breakfast Program Mailing
X-ALT-DESC;FMTTYPE=text/html:Joint BV\, Auburn\, WDO September Breakfast Program Mailing
LOCATION:
UID:e.2083.1065
SEQUENCE:3
DTSTAMP:20260420T195134Z
URL:https://business.clintonareachamber.org/events/details/joint-bv-auburn-wdo-september-breakfast-program-mailing-09-09-2002-1065
END:VEVENT

END:VCALENDAR
