BEGIN:VCALENDAR
VERSION:2.0
PRODID:-//ChamberMaster//Event Calendar 2.0//EN
METHOD:PUBLISH
X-PUBLISHED-TTL:P3D
REFRESH-INTERVAL:P3D
CALSCALE:GREGORIAN
BEGIN:VEVENT
DTSTART:20020918T040000Z
DTEND:20020919T040000Z
X-MICROSOFT-CDO-ALLDAYEVENT:FALSE
SUMMARY:Expo Participating Sponsorship 2002
DESCRIPTION:Expo Participating Sponsorship 2002
X-ALT-DESC;FMTTYPE=text/html:Expo Participating Sponsorship 2002
LOCATION:Worcester Centrum Centre
UID:e.2083.1029
SEQUENCE:3
DTSTAMP:20260420T195230Z
URL:https://business.clintonareachamber.org/events/details/expo-participating-sponsorship-2002-09-18-2002-1029
END:VEVENT

END:VCALENDAR
