BEGIN:VCALENDAR
VERSION:2.0
PRODID:-//ChamberMaster//Event Calendar 2.0//EN
METHOD:PUBLISH
X-PUBLISHED-TTL:P3D
REFRESH-INTERVAL:P3D
CALSCALE:GREGORIAN
BEGIN:VEVENT
DTSTART;VALUE=DATE:20030116
DTEND;VALUE=DATE:20030117
TRANSP:TRANSPARENT
X-MICROSOFT-CDO-ALLDAYEVENT:TRUE
SUMMARY:C9 Breakfast Program
DESCRIPTION:Corridor Nine Area Chamber of Commerce.  Program location will be at the Wyndham Westborough.  For more information and reservations contact Barbara Clifford or Karen Chapman at 508.836.4444.
X-ALT-DESC;FMTTYPE=text/html:Corridor Nine Area Chamber of Commerce.  Program location will be at the Wyndham Westborough.  For more information and reservations contact Barbara Clifford or Karen Chapman at 508.836.4444.
LOCATION:
UID:e.2083.38
SEQUENCE:3
DTSTAMP:20260420T121806Z
URL:https://business.clintonareachamber.org/events/details/c9-breakfast-program-01-16-2003-38
END:VEVENT

END:VCALENDAR
