BEGIN:VCALENDAR
VERSION:2.0
PRODID:-//ChamberMaster//Event Calendar 2.0//EN
METHOD:PUBLISH
X-PUBLISHED-TTL:P3D
REFRESH-INTERVAL:P3D
CALSCALE:GREGORIAN
BEGIN:VEVENT
DTSTART:20030114T050000Z
DTEND:20030114T050000Z
X-MICROSOFT-CDO-ALLDAYEVENT:FALSE
SUMMARY:Business Ethics in Corporate America
DESCRIPTION:Business Ethics in Corporate America
X-ALT-DESC;FMTTYPE=text/html:Business Ethics in Corporate America
LOCATION:Mechanics Hall
UID:e.2083.1080
SEQUENCE:3
DTSTAMP:20260420T122930Z
URL:https://business.clintonareachamber.org/events/details/business-ethics-in-corporate-america-01-14-2003-1080
END:VEVENT

END:VCALENDAR
