BEGIN:VCALENDAR
VERSION:2.0
PRODID:-//ChamberMaster//Event Calendar 2.0//EN
METHOD:PUBLISH
X-PUBLISHED-TTL:P3D
REFRESH-INTERVAL:P3D
CALSCALE:GREGORIAN
BEGIN:VEVENT
DTSTART:20020516T040000Z
DTEND:20020516T040000Z
X-MICROSOFT-CDO-ALLDAYEVENT:FALSE
SUMMARY:Business After Hours May 2002
DESCRIPTION:Business After Hours May 2002
X-ALT-DESC;FMTTYPE=text/html:Business After Hours May 2002
LOCATION:The Atrium\, One Exchange Place\, Worcester
UID:e.2083.1027
SEQUENCE:3
DTSTAMP:20260421T032359Z
URL:https://business.clintonareachamber.org/events/details/business-after-hours-may-2002-05-16-2002-1027
END:VEVENT

END:VCALENDAR
