BEGIN:VCALENDAR
VERSION:2.0
PRODID:-//ChamberMaster//Event Calendar 2.0//EN
METHOD:PUBLISH
X-PUBLISHED-TTL:P3D
REFRESH-INTERVAL:P3D
CALSCALE:GREGORIAN
BEGIN:VEVENT
DTSTART:20030213T050000Z
DTEND:20030213T050000Z
X-MICROSOFT-CDO-ALLDAYEVENT:FALSE
SUMMARY:Business After Hours February 2003
DESCRIPTION:
X-ALT-DESC;FMTTYPE=text/html:
LOCATION:Vinny T's
UID:e.2083.73
SEQUENCE:3
DTSTAMP:20260420T085825Z
URL:https://business.clintonareachamber.org/events/details/business-after-hours-february-2003-02-13-2003-73
END:VEVENT

END:VCALENDAR
