BEGIN:VCALENDAR
VERSION:2.0
PRODID:-//ChamberMaster//Event Calendar 2.0//EN
METHOD:PUBLISH
X-PUBLISHED-TTL:P3D
REFRESH-INTERVAL:P3D
CALSCALE:GREGORIAN
BEGIN:VEVENT
DTSTART;VALUE=DATE:20021211
DTEND;VALUE=DATE:20021212
TRANSP:TRANSPARENT
X-MICROSOFT-CDO-ALLDAYEVENT:TRUE
SUMMARY:Business After Hours
DESCRIPTION:Holden Area Chamber of Commerce.  Program location is at the Higgins Armory Museum.  For more information and reservations contact Sherry Andrysiak at 508.829-9220.
X-ALT-DESC;FMTTYPE=text/html:Holden Area Chamber of Commerce.  Program location is at the Higgins Armory Museum.  For more information and reservations contact Sherry Andrysiak at 508.829-9220.
LOCATION:
UID:e.2083.46
SEQUENCE:3
DTSTAMP:20260420T142755Z
URL:https://business.clintonareachamber.org/events/details/business-after-hours-12-11-2002-46
END:VEVENT

END:VCALENDAR
