BEGIN:VCALENDAR
VERSION:2.0
PRODID:-//ChamberMaster//Event Calendar 2.0//EN
METHOD:PUBLISH
X-PUBLISHED-TTL:P3D
REFRESH-INTERVAL:P3D
CALSCALE:GREGORIAN
BEGIN:VEVENT
DTSTART;VALUE=DATE:20021204
DTEND;VALUE=DATE:20021205
TRANSP:TRANSPARENT
X-MICROSOFT-CDO-ALLDAYEVENT:TRUE
SUMMARY:Business After Hours
DESCRIPTION:Corridor Nine Area Chamber of Commerce.  Program location is at the White Cliffs\, 167 Main St.\, Northborough.  For more information and reservations contact Barbara Clifford or Karen                                              Chapman at 508.856.4444.
X-ALT-DESC;FMTTYPE=text/html:Corridor Nine Area Chamber of Commerce.  Program location is at the White Cliffs\, 167 Main St.\, Northborough.  For more information and reservations contact Barbara Clifford or Karen                                              Chapman at 508.856.4444.
LOCATION:
UID:e.2083.36
SEQUENCE:3
DTSTAMP:20260420T142205Z
URL:https://business.clintonareachamber.org/events/details/business-after-hours-12-04-2002-36
END:VEVENT

END:VCALENDAR
