BEGIN:VCALENDAR
VERSION:2.0
PRODID:-//ChamberMaster//Event Calendar 2.0//EN
METHOD:PUBLISH
X-PUBLISHED-TTL:P3D
REFRESH-INTERVAL:P3D
CALSCALE:GREGORIAN
BEGIN:VEVENT
DTSTART;VALUE=DATE:20021121
DTEND;VALUE=DATE:20021122
TRANSP:TRANSPARENT
X-MICROSOFT-CDO-ALLDAYEVENT:TRUE
SUMMARY:Business After Hours
DESCRIPTION:Worcester Regional Chamber of Commerce.  Program location is at the Irish Times\, Main St. Worcester. For details/reservations contact Diane Laska-Nixon at 508.753.2924.\n.  For more information and reservations contact Barbara Clifford or Karen Chapman at 508.856.4444.
X-ALT-DESC;FMTTYPE=text/html:Worcester Regional Chamber of Commerce.  Program location is at the Irish Times\, Main St. Worcester. For details/reservations contact Diane Laska-Nixon at 508.753.2924.\n.  For more information and reservations contact Barbara Clifford or Karen Chapman at 508.856.4444.
LOCATION:
UID:e.2083.39
SEQUENCE:3
DTSTAMP:20260420T161336Z
URL:https://business.clintonareachamber.org/events/details/business-after-hours-11-21-2002-39
END:VEVENT

END:VCALENDAR
