BEGIN:VCALENDAR
VERSION:2.0
PRODID:-//ChamberMaster//Event Calendar 2.0//EN
METHOD:PUBLISH
X-PUBLISHED-TTL:P3D
REFRESH-INTERVAL:P3D
CALSCALE:GREGORIAN
BEGIN:VEVENT
DTSTART:20020606T040000Z
DTEND:20020606T040000Z
X-MICROSOFT-CDO-ALLDAYEVENT:FALSE
SUMMARY:Breakfast Club Table Top Sponsor
DESCRIPTION:Breakfast Club Table Top Sponsor
X-ALT-DESC;FMTTYPE=text/html:Breakfast Club Table Top Sponsor
LOCATION:Assumption College
UID:e.2083.1036
SEQUENCE:3
DTSTAMP:20260421T015312Z
URL:https://business.clintonareachamber.org/events/details/breakfast-club-table-top-sponsor-06-06-2002-1036
END:VEVENT

END:VCALENDAR
