BEGIN:VCALENDAR
VERSION:2.0
PRODID:-//ChamberMaster//Event Calendar 2.0//EN
METHOD:PUBLISH
X-PUBLISHED-TTL:P3D
REFRESH-INTERVAL:P3D
CALSCALE:GREGORIAN
BEGIN:VEVENT
DTSTART:20011206T050000Z
DTEND:20011206T050000Z
X-MICROSOFT-CDO-ALLDAYEVENT:FALSE
SUMMARY:Breakfast Club
DESCRIPTION:Breakfast Club
X-ALT-DESC;FMTTYPE=text/html:Breakfast Club
LOCATION:Holiday Inn
UID:e.2083.1018
SEQUENCE:3
DTSTAMP:20260423T113711Z
URL:https://business.clintonareachamber.org/events/details/breakfast-club-12-06-2001-1018
END:VEVENT

END:VCALENDAR
