BEGIN:VCALENDAR
VERSION:2.0
PRODID:-//ChamberMaster//Event Calendar 2.0//EN
METHOD:PUBLISH
X-PUBLISHED-TTL:P3D
REFRESH-INTERVAL:P3D
CALSCALE:GREGORIAN
BEGIN:VEVENT
DTSTART:20021204T050000Z
DTEND:20021204T050000Z
X-MICROSOFT-CDO-ALLDAYEVENT:FALSE
SUMMARY:Breakfast Club
DESCRIPTION:Breakfast Club
X-ALT-DESC;FMTTYPE=text/html:Breakfast Club
LOCATION:
UID:e.2083.1060
SEQUENCE:3
DTSTAMP:20260420T142206Z
URL:https://business.clintonareachamber.org/events/details/breakfast-club-12-04-2002-1060
END:VEVENT

END:VCALENDAR
