BEGIN:VCALENDAR
VERSION:2.0
PRODID:-//ChamberMaster//Event Calendar 2.0//EN
METHOD:PUBLISH
X-PUBLISHED-TTL:P3D
REFRESH-INTERVAL:P3D
CALSCALE:GREGORIAN
BEGIN:VEVENT
DTSTART:20020909T040000Z
DTEND:20020909T040000Z
X-MICROSOFT-CDO-ALLDAYEVENT:FALSE
SUMMARY:Auburn Golf Tournament Mass. Electric Sponsorships 2002
DESCRIPTION:Auburn Golf Tournament Mass. Electric Sponsorships 2002
X-ALT-DESC;FMTTYPE=text/html:Auburn Golf Tournament Mass. Electric Sponsorships 2002
LOCATION:Heritage Country Club
UID:e.2083.1114
SEQUENCE:3
DTSTAMP:20260420T200708Z
URL:https://business.clintonareachamber.org/events/details/auburn-golf-tournament-mass-electric-sponsorships-2002-09-09-2002-1114
END:VEVENT

END:VCALENDAR
