BEGIN:VCALENDAR
VERSION:2.0
PRODID:-//ChamberMaster//Event Calendar 2.0//EN
METHOD:PUBLISH
X-PUBLISHED-TTL:P3D
REFRESH-INTERVAL:P3D
CALSCALE:GREGORIAN
BEGIN:VEVENT
DTSTART:20020924T040000Z
DTEND:20020924T040000Z
X-MICROSOFT-CDO-ALLDAYEVENT:FALSE
SUMMARY:Auburn Chamber Breakfast Program September 2002
DESCRIPTION:Auburn Chamber Breakfast Program September 2002
X-ALT-DESC;FMTTYPE=text/html:Auburn Chamber Breakfast Program September 2002
LOCATION:
UID:e.2083.1053
SEQUENCE:3
DTSTAMP:20260420T195133Z
URL:https://business.clintonareachamber.org/events/details/auburn-chamber-breakfast-program-september-2002-09-24-2002-1053
END:VEVENT

END:VCALENDAR
