BEGIN:VCALENDAR
VERSION:2.0
PRODID:-//ChamberMaster//Event Calendar 2.0//EN
METHOD:PUBLISH
X-PUBLISHED-TTL:P3D
REFRESH-INTERVAL:P3D
CALSCALE:GREGORIAN
BEGIN:VEVENT
DTSTART:20021016T040000Z
DTEND:20021016T040000Z
X-MICROSOFT-CDO-ALLDAYEVENT:FALSE
SUMMARY:Auburn Chamber Breakfast Program October 2002
DESCRIPTION:Auburn Chamber Breakfast Program October  2002
X-ALT-DESC;FMTTYPE=text/html:Auburn Chamber Breakfast Program October  2002
LOCATION:Ramada Inn
UID:e.2083.1056
SEQUENCE:3
DTSTAMP:20260420T175607Z
URL:https://business.clintonareachamber.org/events/details/auburn-chamber-breakfast-program-october-2002-10-16-2002-1056
END:VEVENT

END:VCALENDAR
