BEGIN:VCALENDAR
VERSION:2.0
PRODID:-//ChamberMaster//Event Calendar 2.0//EN
METHOD:PUBLISH
X-PUBLISHED-TTL:P3D
REFRESH-INTERVAL:P3D
CALSCALE:GREGORIAN
BEGIN:VEVENT
DTSTART:20021113T050000Z
DTEND:20021113T050000Z
X-MICROSOFT-CDO-ALLDAYEVENT:FALSE
SUMMARY:Auburn Chamber Breakfast Program November
DESCRIPTION:Auburn Chamber Breakfast Program November
X-ALT-DESC;FMTTYPE=text/html:Auburn Chamber Breakfast Program November
LOCATION:Ramada Inn
UID:e.2083.1066
SEQUENCE:3
DTSTAMP:20260420T161302Z
URL:https://business.clintonareachamber.org/events/details/auburn-chamber-breakfast-program-november-11-13-2002-1066
END:VEVENT

END:VCALENDAR
