BEGIN:VCALENDAR
VERSION:2.0
PRODID:-//ChamberMaster//Event Calendar 2.0//EN
METHOD:PUBLISH
X-PUBLISHED-TTL:P3D
REFRESH-INTERVAL:P3D
CALSCALE:GREGORIAN
BEGIN:VEVENT
DTSTART:20021218T050000Z
DTEND:20021218T050000Z
X-MICROSOFT-CDO-ALLDAYEVENT:FALSE
SUMMARY:Auburn Chamber Breakfast Program December
DESCRIPTION:Auburn Chamber Breakfast Program December
X-ALT-DESC;FMTTYPE=text/html:Auburn Chamber Breakfast Program December
LOCATION:Ramada Inn
UID:e.2083.1067
SEQUENCE:3
DTSTAMP:20260420T142043Z
URL:https://business.clintonareachamber.org/events/details/auburn-chamber-breakfast-program-december-12-18-2002-1067
END:VEVENT

END:VCALENDAR
