BEGIN:VCALENDAR
VERSION:2.0
PRODID:-//ChamberMaster//Event Calendar 2.0//EN
METHOD:PUBLISH
X-PUBLISHED-TTL:P3D
REFRESH-INTERVAL:P3D
CALSCALE:GREGORIAN
BEGIN:VEVENT
DTSTART:20030115T050000Z
DTEND:20030115T050000Z
X-MICROSOFT-CDO-ALLDAYEVENT:FALSE
SUMMARY:Auburn Chamber Breakfast - January 2003
DESCRIPTION:Auburn Chamber Breakfast - January 2003
X-ALT-DESC;FMTTYPE=text/html:Auburn Chamber Breakfast - January 2003
LOCATION:Ramada Inn
UID:e.2083.1073
SEQUENCE:3
DTSTAMP:20260420T122633Z
URL:https://business.clintonareachamber.org/events/details/auburn-chamber-breakfast-january-2003-01-15-2003-1073
END:VEVENT

END:VCALENDAR
