BEGIN:VCALENDAR
VERSION:2.0
PRODID:-//ChamberMaster//Event Calendar 2.0//EN
METHOD:PUBLISH
X-PUBLISHED-TTL:P3D
REFRESH-INTERVAL:P3D
CALSCALE:GREGORIAN
BEGIN:VEVENT
DTSTART:20021213T050000Z
DTEND:20021213T050000Z
X-MICROSOFT-CDO-ALLDAYEVENT:FALSE
SUMMARY:Annual Meeting 2002
DESCRIPTION:Annual Meeting  2002
X-ALT-DESC;FMTTYPE=text/html:Annual Meeting  2002
LOCATION:Mechanics Hall
UID:e.2083.1063
SEQUENCE:3
DTSTAMP:20260420T142346Z
URL:https://business.clintonareachamber.org/events/details/annual-meeting-2002-12-13-2002-1063
END:VEVENT

END:VCALENDAR
