BEGIN:VCALENDAR
VERSION:2.0
PRODID:-//ChamberMaster//Event Calendar 2.0//EN
METHOD:PUBLISH
X-PUBLISHED-TTL:P3D
REFRESH-INTERVAL:P3D
CALSCALE:GREGORIAN
BEGIN:VEVENT
DTSTART:20011206T050000Z
DTEND:20011206T050000Z
X-MICROSOFT-CDO-ALLDAYEVENT:FALSE
SUMMARY:Annual Meeting
DESCRIPTION:Annual Meeting
X-ALT-DESC;FMTTYPE=text/html:Annual Meeting
LOCATION:Mechanics Hall
UID:e.2083.1019
SEQUENCE:3
DTSTAMP:20260423T120702Z
URL:https://business.clintonareachamber.org/events/details/annual-meeting-12-06-2001-1019
END:VEVENT

END:VCALENDAR
