BEGIN:VCALENDAR
VERSION:2.0
PRODID:-//ChamberMaster//Event Calendar 2.0//EN
METHOD:PUBLISH
X-PUBLISHED-TTL:P3D
REFRESH-INTERVAL:P3D
CALSCALE:GREGORIAN
BEGIN:VEVENT
DTSTART:20020614T040000Z
DTEND:20020614T040000Z
X-MICROSOFT-CDO-ALLDAYEVENT:FALSE
SUMMARY:Annual Awards & Recognition Luncheon 2002
DESCRIPTION:Annual Awards & Recognition Luncheon 2002
X-ALT-DESC;FMTTYPE=text/html:Annual Awards & Recognition Luncheon 2002
LOCATION:Worcester's Centrum Centre
UID:e.2083.1037
SEQUENCE:3
DTSTAMP:20260421T020351Z
URL:https://business.clintonareachamber.org/events/details/annual-awards-recognition-luncheon-2002-06-14-2002-1037
END:VEVENT

END:VCALENDAR
