BEGIN:VCALENDAR
VERSION:2.0
PRODID:-//ChamberMaster//Event Calendar 2.0//EN
METHOD:PUBLISH
X-PUBLISHED-TTL:P3D
REFRESH-INTERVAL:P3D
CALSCALE:GREGORIAN
BEGIN:VEVENT
DTSTART;VALUE=DATE:20030110
DTEND;VALUE=DATE:20030111
TRANSP:TRANSPARENT
X-MICROSOFT-CDO-ALLDAYEVENT:TRUE
SUMMARY:Ambassador Committee
DESCRIPTION:Worcester Regional Chamber of Commerce and Affiliates.  Program location is at the Chamber's Fuller Conference Center\, 339 Main Street\, Worcester.  For details contact Michelle Petraitis at 508.753.2924.
X-ALT-DESC;FMTTYPE=text/html:Worcester Regional Chamber of Commerce and Affiliates.  Program location is at the Chamber's Fuller Conference Center\, 339 Main Street\, Worcester.  For details contact Michelle Petraitis at 508.753.2924.
LOCATION:
UID:e.2083.49
SEQUENCE:3
DTSTAMP:20260420T122432Z
URL:https://business.clintonareachamber.org/events/details/ambassador-committee-01-10-2003-49
END:VEVENT

END:VCALENDAR
